BEGIN:VCALENDAR
VERSION:2.0
PRODID:-//Bürgerverein Bornim `90 e.V. - ECPv6.15.20//NONSGML v1.0//EN
CALSCALE:GREGORIAN
METHOD:PUBLISH
X-ORIGINAL-URL:https://xn--brgerverein-bornim-m6b.de
X-WR-CALDESC:Veranstaltungen für Bürgerverein Bornim `90 e.V.
REFRESH-INTERVAL;VALUE=DURATION:PT1H
X-Robots-Tag:noindex
X-PUBLISHED-TTL:PT1H
BEGIN:VTIMEZONE
TZID:Europe/Berlin
BEGIN:DAYLIGHT
TZOFFSETFROM:+0100
TZOFFSETTO:+0200
TZNAME:CEST
DTSTART:20240331T010000
END:DAYLIGHT
BEGIN:STANDARD
TZOFFSETFROM:+0200
TZOFFSETTO:+0100
TZNAME:CET
DTSTART:20241027T010000
END:STANDARD
BEGIN:DAYLIGHT
TZOFFSETFROM:+0100
TZOFFSETTO:+0200
TZNAME:CEST
DTSTART:20250330T010000
END:DAYLIGHT
BEGIN:STANDARD
TZOFFSETFROM:+0200
TZOFFSETTO:+0100
TZNAME:CET
DTSTART:20251026T010000
END:STANDARD
BEGIN:DAYLIGHT
TZOFFSETFROM:+0100
TZOFFSETTO:+0200
TZNAME:CEST
DTSTART:20260329T010000
END:DAYLIGHT
BEGIN:STANDARD
TZOFFSETFROM:+0200
TZOFFSETTO:+0100
TZNAME:CET
DTSTART:20261025T010000
END:STANDARD
END:VTIMEZONE
BEGIN:VEVENT
DTSTART;TZID=Europe/Berlin:20250913T140000
DTEND;TZID=Europe/Berlin:20250913T220000
DTSTAMP:20260426T021428
CREATED:20250724T123353Z
LAST-MODIFIED:20250724T131609Z
UID:3656-1757772000-1757800800@xn--brgerverein-bornim-m6b.de
SUMMARY:Bornimer Herbstfest 2025
DESCRIPTION:Wir laden euch recht hezlich ein \nHerbstfest
URL:https://xn--brgerverein-bornim-m6b.de/event/bornimer-herbstfest-20025/
LOCATION:Festwiese Bornim
CATEGORIES:Sport,Treffen
END:VEVENT
END:VCALENDAR