BEGIN:VCALENDAR
VERSION:2.0
PRODID:-//Bürgerverein Bornim `90 e.V. - ECPv6.15.20//NONSGML v1.0//EN
CALSCALE:GREGORIAN
METHOD:PUBLISH
X-ORIGINAL-URL:https://xn--brgerverein-bornim-m6b.de
X-WR-CALDESC:Veranstaltungen für Bürgerverein Bornim `90 e.V.
REFRESH-INTERVAL;VALUE=DURATION:PT1H
X-Robots-Tag:noindex
X-PUBLISHED-TTL:PT1H
BEGIN:VTIMEZONE
TZID:Europe/Berlin
BEGIN:DAYLIGHT
TZOFFSETFROM:+0100
TZOFFSETTO:+0200
TZNAME:CEST
DTSTART:20240331T010000
END:DAYLIGHT
BEGIN:STANDARD
TZOFFSETFROM:+0200
TZOFFSETTO:+0100
TZNAME:CET
DTSTART:20241027T010000
END:STANDARD
BEGIN:DAYLIGHT
TZOFFSETFROM:+0100
TZOFFSETTO:+0200
TZNAME:CEST
DTSTART:20250330T010000
END:DAYLIGHT
BEGIN:STANDARD
TZOFFSETFROM:+0200
TZOFFSETTO:+0100
TZNAME:CET
DTSTART:20251026T010000
END:STANDARD
BEGIN:DAYLIGHT
TZOFFSETFROM:+0100
TZOFFSETTO:+0200
TZNAME:CEST
DTSTART:20260329T010000
END:DAYLIGHT
BEGIN:STANDARD
TZOFFSETFROM:+0200
TZOFFSETTO:+0100
TZNAME:CET
DTSTART:20261025T010000
END:STANDARD
END:VTIMEZONE
BEGIN:VEVENT
DTSTART;TZID=Europe/Berlin:20251001T173000
DTEND;TZID=Europe/Berlin:20251001T193000
DTSTAMP:20260426T005254
CREATED:20250930T095637Z
LAST-MODIFIED:20250930T095637Z
UID:3729-1759339800-1759347000@xn--brgerverein-bornim-m6b.de
SUMMARY:Bornimer Geschichtstreff - Seidenanbau in Bornim im 18. & 19. Jahrhundert
DESCRIPTION:„Seidenanbau in Bornim im 18. & 19. Jahrhundert“ \nIm Bürgerhaus Bornim \nPotsdamer Str. 90
URL:https://xn--brgerverein-bornim-m6b.de/event/bornimer-geschichtstreff-seidenanbau-in-bornim-im-18-19-jahrhundert/
CATEGORIES:Kultur,Treffen
END:VEVENT
END:VCALENDAR