BEGIN:VCALENDAR
VERSION:2.0
PRODID:-//Bürgerverein Bornim `90 e.V. - ECPv6.15.20//NONSGML v1.0//EN
CALSCALE:GREGORIAN
METHOD:PUBLISH
X-WR-CALNAME:Bürgerverein Bornim `90 e.V.
X-ORIGINAL-URL:https://xn--brgerverein-bornim-m6b.de
X-WR-CALDESC:Veranstaltungen für Bürgerverein Bornim `90 e.V.
REFRESH-INTERVAL;VALUE=DURATION:PT1H
X-Robots-Tag:noindex
X-PUBLISHED-TTL:PT1H
BEGIN:VTIMEZONE
TZID:Europe/Berlin
BEGIN:DAYLIGHT
TZOFFSETFROM:+0100
TZOFFSETTO:+0200
TZNAME:CEST
DTSTART:20240331T010000
END:DAYLIGHT
BEGIN:STANDARD
TZOFFSETFROM:+0200
TZOFFSETTO:+0100
TZNAME:CET
DTSTART:20241027T010000
END:STANDARD
BEGIN:DAYLIGHT
TZOFFSETFROM:+0100
TZOFFSETTO:+0200
TZNAME:CEST
DTSTART:20250330T010000
END:DAYLIGHT
BEGIN:STANDARD
TZOFFSETFROM:+0200
TZOFFSETTO:+0100
TZNAME:CET
DTSTART:20251026T010000
END:STANDARD
BEGIN:DAYLIGHT
TZOFFSETFROM:+0100
TZOFFSETTO:+0200
TZNAME:CEST
DTSTART:20260329T010000
END:DAYLIGHT
BEGIN:STANDARD
TZOFFSETFROM:+0200
TZOFFSETTO:+0100
TZNAME:CET
DTSTART:20261025T010000
END:STANDARD
END:VTIMEZONE
BEGIN:VEVENT
DTSTART;TZID=Europe/Berlin:20251105T173000
DTEND;TZID=Europe/Berlin:20251105T200000
DTSTAMP:20260425T233111
CREATED:20251020T091007Z
LAST-MODIFIED:20251028T115647Z
UID:3743-1762363800-1762372800@xn--brgerverein-bornim-m6b.de
SUMMARY:Bornim Damals
DESCRIPTION:Eine Veranstaltung des Bornimer Geschichtstreffs\nGemeinsam wollen wir uns bei einem gemütlichen Beisammensein darüber austauschen\, welche Erinnerungen es an Bäckereien\, Fleischereien\, Läden U.s.w. in Bornim gibt. Untermalt werden die Erinnerungen durch alte Postkarten und Fotos; bringen Sie gern eigene Unterlagen oder Erinnerungsstücke mit.
URL:https://xn--brgerverein-bornim-m6b.de/event/bornim-damals/
CATEGORIES:Kultur,Treffen
ATTACH;FMTTYPE=image/webp:https://xn--brgerverein-bornim-m6b.de/wp-content/uploads/2025/10/hp-beitrags-eventbilder-31-68f23c8d942a8.webp
END:VEVENT
END:VCALENDAR