BEGIN:VCALENDAR
VERSION:2.0
PRODID:-//Bürgerverein Bornim `90 e.V. - ECPv6.15.20//NONSGML v1.0//EN
CALSCALE:GREGORIAN
METHOD:PUBLISH
X-WR-CALNAME:Bürgerverein Bornim `90 e.V.
X-ORIGINAL-URL:https://xn--brgerverein-bornim-m6b.de
X-WR-CALDESC:Veranstaltungen für Bürgerverein Bornim `90 e.V.
REFRESH-INTERVAL;VALUE=DURATION:PT1H
X-Robots-Tag:noindex
X-PUBLISHED-TTL:PT1H
BEGIN:VTIMEZONE
TZID:Europe/Berlin
BEGIN:DAYLIGHT
TZOFFSETFROM:+0100
TZOFFSETTO:+0200
TZNAME:CEST
DTSTART:20250330T010000
END:DAYLIGHT
BEGIN:STANDARD
TZOFFSETFROM:+0200
TZOFFSETTO:+0100
TZNAME:CET
DTSTART:20251026T010000
END:STANDARD
BEGIN:DAYLIGHT
TZOFFSETFROM:+0100
TZOFFSETTO:+0200
TZNAME:CEST
DTSTART:20260329T010000
END:DAYLIGHT
BEGIN:STANDARD
TZOFFSETFROM:+0200
TZOFFSETTO:+0100
TZNAME:CET
DTSTART:20261025T010000
END:STANDARD
BEGIN:DAYLIGHT
TZOFFSETFROM:+0100
TZOFFSETTO:+0200
TZNAME:CEST
DTSTART:20270328T010000
END:DAYLIGHT
BEGIN:STANDARD
TZOFFSETFROM:+0200
TZOFFSETTO:+0100
TZNAME:CET
DTSTART:20271031T010000
END:STANDARD
END:VTIMEZONE
BEGIN:VEVENT
DTSTART;VALUE=DATE:20260310
DTEND;VALUE=DATE:20260716
DTSTAMP:20260425T131752
CREATED:20260311T201548Z
LAST-MODIFIED:20260417T194123Z
UID:3853-1773100800-1784159999@xn--brgerverein-bornim-m6b.de
SUMMARY:Ausstellung der Grundschule Bornim
DESCRIPTION:Gemeinsam mit der Grundschule Bornim hat der Bürgerverein Bornim 10 historische Orte erkundet. Daraus haben die Schüler interessante Plakate und einen ActionBound erstellt. Die Ausstellung ist im Obergeschoss des Bürgerhaus Bornim zu sehen.
URL:https://xn--brgerverein-bornim-m6b.de/event/ausstellung-der-grundschule-bornim/
LOCATION:Bürgerhaus Bornim\, Potsdamer Str. 90\, Potsdam\, 14469\, Germany
END:VEVENT
BEGIN:VEVENT
DTSTART;TZID=Europe/Berlin:20260329T080000
DTEND;TZID=Europe/Berlin:20260410T170000
DTSTAMP:20260425T131752
CREATED:20260329T132217Z
LAST-MODIFIED:20260329T132747Z
UID:3933-1774771200-1775840400@xn--brgerverein-bornim-m6b.de
SUMMARY:Ausstellung Historisches Bornim
DESCRIPTION:Die Ausstellung im Bürgerhaus kann nur noch bis zum 10. April 2026 besichtigt werden.
URL:https://xn--brgerverein-bornim-m6b.de/event/ausstellung-historisches-bornim/
LOCATION:Bürgerhaus Bornim\, Potsdamer Str. 90\, Potsdam\, 14469\, Germany
END:VEVENT
BEGIN:VEVENT
DTSTART;TZID=Europe/Berlin:20260329T080000
DTEND;TZID=Europe/Berlin:20260410T170000
DTSTAMP:20260425T131752
CREATED:20260329T132450Z
LAST-MODIFIED:20260329T132459Z
UID:3936-1774771200-1775840400@xn--brgerverein-bornim-m6b.de
SUMMARY:Ausstellung Manfred Butzmann
DESCRIPTION:Die Ausstellung mit Bildern von Manfred Butzmann im Saal des Bürgerhauses kann nur noch bis zum 10.04.2026 besichtigt werden.
URL:https://xn--brgerverein-bornim-m6b.de/event/ausstellung-manfred-butzmann/
LOCATION:Bürgerhaus Bornim\, Potsdamer Str. 90\, Potsdam\, 14469\, Germany
ORGANIZER;CN="B%C3%BCrgerverein Bornim `90 e.V":MAILTO:buergerverein-bornim@web.de
END:VEVENT
BEGIN:VEVENT
DTSTART;TZID=Europe/Berlin:20260408T173000
DTEND;TZID=Europe/Berlin:20260408T183000
DTSTAMP:20260425T131752
CREATED:20260319T204231Z
LAST-MODIFIED:20260319T204905Z
UID:3868-1775669400-1775673000@xn--brgerverein-bornim-m6b.de
SUMMARY:Geschichtstreff "Guck-Mal\, Denk-Mal\, Mach-Mal"
DESCRIPTION:Unter dem Motto „Guck-Mal\, Denk-Mal\, Mach-Mal“ startete im Februar ein Geschichtsprojekt der  Grundschule Bornim. Gemeinsam mit 4 Mitgliedern des Bürgerverein Bornim wurden 10 geschichtsträchtige Orte in Bornim aufgesucht und den Kindern erlebbar gemacht. Im Ergebnis entstand die Ausstellung zu diesem Projekt. Im Rahmen des Geschichtstreffs wollen wir uns die Ausstellung  ansehen und von den Erlebnissen der gemeinsamen Zusammenarbeit mit den Schülern der 5. und 6. Klassen und den Lehrern berichten. Zu den Stationen wurde für die App: „ActionBound“ ein Quiz-Parcours von den Schülern entworfen. Wir wollen diese App und ihre Nutzung vorstellen. Laden Sie sich die App auf Ihr Handy oder Tablet und probieren Sie es mit Ihren Kindern und Enkeln aus. Lesen Sie dazu auch unseren Beitrag.
URL:https://xn--brgerverein-bornim-m6b.de/event/geschichtstreff-guck-mal-denk-mal-mach-mal/
LOCATION:Bürgerhaus Bornim\, Potsdamer Str. 90\, Potsdam\, 14469\, Germany
ORGANIZER;CN="B%C3%BCrgerverein Bornim `90 e.V":MAILTO:buergerverein-bornim@web.de
END:VEVENT
END:VCALENDAR