BEGIN:VCALENDAR
VERSION:2.0
PRODID:-//Bürgerverein Bornim `90 e.V. - ECPv6.15.20//NONSGML v1.0//EN
CALSCALE:GREGORIAN
METHOD:PUBLISH
X-ORIGINAL-URL:https://xn--brgerverein-bornim-m6b.de
X-WR-CALDESC:Veranstaltungen für Bürgerverein Bornim `90 e.V.
REFRESH-INTERVAL;VALUE=DURATION:PT1H
X-Robots-Tag:noindex
X-PUBLISHED-TTL:PT1H
BEGIN:VTIMEZONE
TZID:Europe/Berlin
BEGIN:DAYLIGHT
TZOFFSETFROM:+0100
TZOFFSETTO:+0200
TZNAME:CEST
DTSTART:20250330T010000
END:DAYLIGHT
BEGIN:STANDARD
TZOFFSETFROM:+0200
TZOFFSETTO:+0100
TZNAME:CET
DTSTART:20251026T010000
END:STANDARD
BEGIN:DAYLIGHT
TZOFFSETFROM:+0100
TZOFFSETTO:+0200
TZNAME:CEST
DTSTART:20260329T010000
END:DAYLIGHT
BEGIN:STANDARD
TZOFFSETFROM:+0200
TZOFFSETTO:+0100
TZNAME:CET
DTSTART:20261025T010000
END:STANDARD
BEGIN:DAYLIGHT
TZOFFSETFROM:+0100
TZOFFSETTO:+0200
TZNAME:CEST
DTSTART:20270328T010000
END:DAYLIGHT
BEGIN:STANDARD
TZOFFSETFROM:+0200
TZOFFSETTO:+0100
TZNAME:CET
DTSTART:20271031T010000
END:STANDARD
END:VTIMEZONE
BEGIN:VEVENT
DTSTART;VALUE=DATE:20260310
DTEND;VALUE=DATE:20260716
DTSTAMP:20260425T132107
CREATED:20260311T201548Z
LAST-MODIFIED:20260417T194123Z
UID:3853-1773100800-1784159999@xn--brgerverein-bornim-m6b.de
SUMMARY:Ausstellung der Grundschule Bornim
DESCRIPTION:Gemeinsam mit der Grundschule Bornim hat der Bürgerverein Bornim 10 historische Orte erkundet. Daraus haben die Schüler interessante Plakate und einen ActionBound erstellt. Die Ausstellung ist im Obergeschoss des Bürgerhaus Bornim zu sehen.
URL:https://xn--brgerverein-bornim-m6b.de/event/ausstellung-der-grundschule-bornim/
LOCATION:Bürgerhaus Bornim\, Potsdamer Str. 90\, Potsdam\, 14469\, Germany
END:VEVENT
BEGIN:VEVENT
DTSTART;TZID=Europe/Berlin:20260418T100000
DTEND;TZID=Europe/Berlin:20260418T140000
DTSTAMP:20260425T132107
CREATED:20260311T200826Z
LAST-MODIFIED:20260322T111329Z
UID:3851-1776506400-1776520800@xn--brgerverein-bornim-m6b.de
SUMMARY:Frühjahrsputz
DESCRIPTION:  \nWie in jedem Jahr treffen wir uns gemeinsam um 10.00 Uhr an der Festwiese der Freiwilligen Feuerwehr in der Mitschurinstr. in Bornim. In Gruppen suchen wir den herumliegenden Müll (keinen Sperrmüll) aus der Landschaft\, um Bornim schön und sauber zu halten. Im Anschluss grillen wir gemeinsam. \nInteressenten sind gebeten\, sich unter buergerverein-bornim@web.de anzumelden\, damit wir entsprechend planen können.
URL:https://xn--brgerverein-bornim-m6b.de/event/fruehjahrsputz/
LOCATION:Feuerwehrwiese\, Mitschurinstraße\, Potsdam\, 14469\, Germany
ORGANIZER;CN="B%C3%BCrgerverein Bornim `90 e.V":MAILTO:buergerverein-bornim@web.de
END:VEVENT
END:VCALENDAR