BEGIN:VCALENDAR
VERSION:2.0
PRODID:-//Bürgerverein Bornim `90 e.V. - ECPv6.15.20//NONSGML v1.0//EN
CALSCALE:GREGORIAN
METHOD:PUBLISH
X-WR-CALNAME:Bürgerverein Bornim `90 e.V.
X-ORIGINAL-URL:https://xn--brgerverein-bornim-m6b.de
X-WR-CALDESC:Veranstaltungen für Bürgerverein Bornim `90 e.V.
REFRESH-INTERVAL;VALUE=DURATION:PT1H
X-Robots-Tag:noindex
X-PUBLISHED-TTL:PT1H
BEGIN:VTIMEZONE
TZID:Europe/Berlin
BEGIN:DAYLIGHT
TZOFFSETFROM:+0100
TZOFFSETTO:+0200
TZNAME:CEST
DTSTART:20250330T010000
END:DAYLIGHT
BEGIN:STANDARD
TZOFFSETFROM:+0200
TZOFFSETTO:+0100
TZNAME:CET
DTSTART:20251026T010000
END:STANDARD
BEGIN:DAYLIGHT
TZOFFSETFROM:+0100
TZOFFSETTO:+0200
TZNAME:CEST
DTSTART:20260329T010000
END:DAYLIGHT
BEGIN:STANDARD
TZOFFSETFROM:+0200
TZOFFSETTO:+0100
TZNAME:CET
DTSTART:20261025T010000
END:STANDARD
BEGIN:DAYLIGHT
TZOFFSETFROM:+0100
TZOFFSETTO:+0200
TZNAME:CEST
DTSTART:20270328T010000
END:DAYLIGHT
BEGIN:STANDARD
TZOFFSETFROM:+0200
TZOFFSETTO:+0100
TZNAME:CET
DTSTART:20271031T010000
END:STANDARD
END:VTIMEZONE
BEGIN:VEVENT
DTSTART;VALUE=DATE:20260310
DTEND;VALUE=DATE:20260716
DTSTAMP:20260423T135245
CREATED:20260311T201548Z
LAST-MODIFIED:20260417T194123Z
UID:3853-1773100800-1784159999@xn--brgerverein-bornim-m6b.de
SUMMARY:Ausstellung der Grundschule Bornim
DESCRIPTION:Gemeinsam mit der Grundschule Bornim hat der Bürgerverein Bornim 10 historische Orte erkundet. Daraus haben die Schüler interessante Plakate und einen ActionBound erstellt. Die Ausstellung ist im Obergeschoss des Bürgerhaus Bornim zu sehen.
URL:https://xn--brgerverein-bornim-m6b.de/event/ausstellung-der-grundschule-bornim/
LOCATION:Bürgerhaus Bornim\, Potsdamer Str. 90\, Potsdam\, 14469\, Germany
END:VEVENT
BEGIN:VEVENT
DTSTART;TZID=Europe/Berlin:20260506T173000
DTEND;TZID=Europe/Berlin:20260506T190000
DTSTAMP:20260423T135245
CREATED:20260319T201616Z
LAST-MODIFIED:20260319T201800Z
UID:3865-1778088600-1778094000@xn--brgerverein-bornim-m6b.de
SUMMARY:Geschichtstreff "Die Geschichte von Krampnitz - Das Offizierskasino"
DESCRIPTION:Ein Vortrag von Uta Fink. Sie engagiert sich beim Verein NS – Dokumentationszentrum Krampnitz e.V. für die Aufarbeitung der Vergangenheit. Im Vortrag wird die Geschichte des Militärstandortes Krampnitz dargestellt und ein Blick in die Zukunft gerichtet. Wie könnte eine Nachnutzung des Kasinos als Bildungs- und Begegnungsstätte aussehen? \n \n 
URL:https://xn--brgerverein-bornim-m6b.de/event/geschichtstreff-die-geschichte-von-krampnitz-das-offizierskasino/
LOCATION:Bürgerhaus Bornim\, Potsdamer Str. 90\, Potsdam\, 14469\, Germany
ORGANIZER;CN="B%C3%BCrgerverein Bornim `90 e.V":MAILTO:buergerverein-bornim@web.de
END:VEVENT
BEGIN:VEVENT
DTSTART;TZID=Europe/Berlin:20260509T110000
DTEND;TZID=Europe/Berlin:20260509T130000
DTSTAMP:20260423T135245
CREATED:20260329T131206Z
LAST-MODIFIED:20260329T131218Z
UID:3929-1778324400-1778331600@xn--brgerverein-bornim-m6b.de
SUMMARY:Besichtigung  Karl-Foerster-Wohnhaus
DESCRIPTION:Für Mitglieder des Bürgerverein Bornim `90 e.V. konnte mit Unterstützung durch die Restaurierungswerkstatt Broschke eine exklusive Führung des Karl-Foerster-Wohnhauses organisiert werden. Bitte melden Sie sich rechtzeitig für die Teilnahme an (buergerverein-bornim@web.de). Die Personenanzahl ist auf 20 Personen begrenzt. Im Anschluss kann ohne Führung\, allein oder gemeinsam\, eine Besichtigung des Staudengartens erfolgen.
URL:https://xn--brgerverein-bornim-m6b.de/event/besichtigung-karl-foerster-wohnhaus/
LOCATION:Karl Foerster Wohnhaus\, Am Raubfang 7\, Potsdam-Bornim\, Brandenburg\, 14469\, Germany
ORGANIZER;CN="B%C3%BCrgerverein Bornim `90 e.V":MAILTO:buergerverein-bornim@web.de
END:VEVENT
BEGIN:VEVENT
DTSTART;TZID=Europe/Berlin:20260509T110000
DTEND;TZID=Europe/Berlin:20260509T140000
DTSTAMP:20260423T135245
CREATED:20260329T122630Z
LAST-MODIFIED:20260417T192628Z
UID:3925-1778324400-1778335200@xn--brgerverein-bornim-m6b.de
SUMMARY:Arbeitseinsatz Streuobstwiesen Hügelweg Bornim
DESCRIPTION:Seit Oktober 2025 hat sich eine Initiative der Landeshauptstadt Potsdam und dem BUND für den Erhalt der Streuobstwiesen in Bornim gegründet. Gemeinsam mit Anwohnern und interessierten Bürgern werden die Bäume und insbesondere die beschädigten Jungbäume gepflegt. Es gab bereits 3 Arbeitseinsätze mit reger Beteiligung. Die Flächen stehen noch unter Schutz. Wir wollen\,  das es so bleibt und diese nicht dem ehrgeizigen „Bauturbo“ zum Opfer fallen. Deshalb ist diese Initiative wichtig und es wird jede aktive Unterstützung gebraucht. Treffpunkt ist am Hügelweg/ Haselnussring.
URL:https://xn--brgerverein-bornim-m6b.de/event/arbeitseinsatz-streuobstwiesen-huegelweg-bornim/
LOCATION:Streuobstwiesen\, Hügelweg\, Potsdam-Bornim\, Brandenburg\, 14469\, Germany
END:VEVENT
BEGIN:VEVENT
DTSTART;VALUE=DATE:20260516
DTEND;VALUE=DATE:20260518
DTSTAMP:20260423T135245
CREATED:20260329T140023Z
LAST-MODIFIED:20260329T141422Z
UID:3940-1778889600-1779062399@xn--brgerverein-bornim-m6b.de
SUMMARY:Offene Gärten: Karl-Foerster-Garten
DESCRIPTION:Der Karl-Foerster-Staudengarten kann im Rahmen des Offene-Gärten-Programmes mit kostenfreier Gartenführungen  am 16.5. und 17.05.2026 besucht werden. Die genauen Zeiten entnehmen Sie der Urania- Info: \nUrania Verein – Offene Gärten Berlin-Brandenburg 2026 \nWeitere Termine für Gartenbesichtigungen finden Sie auf der Seite der Deutschen Stiftung Denkmalschutz: \nDeutsche Stiftung Denkmalschutz – Terminkalender \n 
URL:https://xn--brgerverein-bornim-m6b.de/event/offene-gaerten-karl-foerster-garten/
LOCATION:Karl-Foerster-Staudengarten\, Am Raubfang 7\, Potsdam-Bornim\, Brandenburg\, 14469\, Germany
END:VEVENT
BEGIN:VEVENT
DTSTART;TZID=Europe/Berlin:20260523T120000
DTEND;TZID=Europe/Berlin:20260523T140000
DTSTAMP:20260423T135245
CREATED:20260412T181147Z
LAST-MODIFIED:20260412T181147Z
UID:3961-1779537600-1779544800@xn--brgerverein-bornim-m6b.de
SUMMARY:Öffentliche Grünabfallannahme
DESCRIPTION:Öffentliche Grünabfallsammlung in Potsdam \nZweimal im Jahr führt die Landeshauptstadt Potsdam an verschiedenen Standorten eine öffentliche Grünabfallsammlung durch. An je zwei festgelegten Samstagen\, im Frühjahr sowie im Herbst\, können Grünschnitt und Laub an benannten Sammelplätzen abgegeben werden. Öffentliche Grünabfallsammlung in Potsdam | Landeshauptstadt Potsdam \nWichtig: Es werden für alle Standorte nur Sammel- und Pressfahrzeuge der Stadtentsorgung Potsdam GmbH (STEP) eingesetzt. Der Grünabfall kann daher nicht lose in Schubkarren\, Anhängern o. ä. angeliefert werden\, sondern sollte in Säcken\, Transporttüten oder Beuteln zum einfachen Ausschütten verpackt sein. \n\nkostenlose Abgabe von maximal 1 Kubikmeter Grünabfällen aus Potsdamer Privathaushalten\nausgeschlossen sind: Baumstämme\, Fallobst\, Blumentöpfe\, Steine\, Erde oder Bauschutt usw.\nangenommen wird: Laub\, Rasenschnitt\, Astwerk (bis max. 12 Zentimeter Durchmesser) sowie Blumen und Pflanzen\nAusweisdokument für eventuelle Rückfragen mitbringen\nTransportbehältnisse müssen wieder mitgenommen werden\n\nGrünabfall kann nur zu den unten stehenden Zeiten an den angegebenen Standorten abgegeben werden. Vorheriges Anliefern oder Bereitlegen ist verboten. \nStandorte und Termine der Grünabfallsammlung im Frühjahr 2026 in Bornim: \nSamstag 23. Mai 2026: Bornim Florastraße/ Hügelweg und Bornim Amundsenstr. / Am Raubfang
URL:https://xn--brgerverein-bornim-m6b.de/event/oeffentliche-gruenabfallannahme/
LOCATION:Bornim Florastraße
END:VEVENT
BEGIN:VEVENT
DTSTART;TZID=Europe/Berlin:20260701T173000
DTEND;TZID=Europe/Berlin:20260701T190000
DTSTAMP:20260423T135245
CREATED:20260328T173716Z
LAST-MODIFIED:20260417T195034Z
UID:3900-1782927000-1782932400@xn--brgerverein-bornim-m6b.de
SUMMARY:Geschichtstreff "Vortrag über den Bau der Nuthestraße"
DESCRIPTION:Die Nutheschnellstraße „Schlagader und Staustelle“. Im Jahr 2024 feierte die Nuthestraße ihr 50 jähriges Bestehen. Sie war 1974 eines der bedeutendsten Verkehrsprojekte in Potsdam. Herr Detlef Pfefferkorn war jahrelang als Verkehrsplaner in der Stadtverwaltung Potsdam tätig. In dem Vortrag werden die Planung und Realisierung dieser wichtigen Verkehrsachse und die Rahmenbedingungen ihres Entstehens dargestellt.
URL:https://xn--brgerverein-bornim-m6b.de/event/geschichtstreff-vortrag-ueber-den-bau-der-nuthestrasse/
LOCATION:Bürgerhaus Bornim\, Potsdamer Str. 90\, Potsdam\, 14469\, Germany
END:VEVENT
BEGIN:VEVENT
DTSTART;VALUE=DATE:20260912
DTEND;VALUE=DATE:20260913
DTSTAMP:20260423T135245
CREATED:20260222T123841Z
LAST-MODIFIED:20260222T123841Z
UID:3836-1789171200-1789257599@xn--brgerverein-bornim-m6b.de
SUMMARY:Bornimer Herbstfest 2026
DESCRIPTION:
URL:https://xn--brgerverein-bornim-m6b.de/event/bornimer-herbstfest-2026/
LOCATION:Festwiese Bornim
ORGANIZER;CN="B%C3%BCrgerverein Bornim `90 e.V":MAILTO:buergerverein-bornim@web.de
END:VEVENT
BEGIN:VEVENT
DTSTART;TZID=Europe/Berlin:20261007T173000
DTEND;TZID=Europe/Berlin:20261007T190000
DTSTAMP:20260423T135245
CREATED:20260328T174657Z
LAST-MODIFIED:20260328T190758Z
UID:3902-1791394200-1791399600@xn--brgerverein-bornim-m6b.de
SUMMARY:Geschichtstreff Vortrag über "Das Bethesda Mädchen-Waisenasyl Bornim"
DESCRIPTION:Frau Stefanie Brauer hat ihre Dissertation über das Thema „Bethesda Mädchen-Waisenasyl“ in Bornim verfasst und erfolgreich verteidigt. Sie wird im Rahmen des Bornimer Geschichtstreffs einen Vortrag über dieses Thema halten.
URL:https://xn--brgerverein-bornim-m6b.de/event/geschichtstreff-vortrag-ueber-das-bethesda-maedchen-waisenasyl-bornim/
LOCATION:Bürgerhaus Bornim\, Potsdamer Str. 90\, Potsdam\, 14469\, Germany
END:VEVENT
BEGIN:VEVENT
DTSTART;TZID=Europe/Berlin:20261017T120000
DTEND;TZID=Europe/Berlin:20261017T140000
DTSTAMP:20260423T135245
CREATED:20260412T181725Z
LAST-MODIFIED:20260412T181725Z
UID:3965-1792238400-1792245600@xn--brgerverein-bornim-m6b.de
SUMMARY:Öffentliche Grünschnittannahme
DESCRIPTION:Öffentliche Grünabfallsammlung in Potsdam \nZweimal im Jahr führt die Landeshauptstadt Potsdam an verschiedenen Standorten eine öffentliche Grünabfallsammlung durch. An je zwei festgelegten Samstagen\, im Frühjahr sowie im Herbst\, können Grünschnitt und Laub im gesamten Stadtgebiet an den unten stehenden Sammelplätzen abgegeben werden. Öffentliche Grünabfallsammlung in Potsdam | Landeshauptstadt Potsdam \nWichtig: Es werden für alle Standorte nur Sammel- und Pressfahrzeuge der Stadtentsorgung Potsdam GmbH (STEP) eingesetzt. Der Grünabfall kann daher nicht lose in Schubkarren\, Anhängern o. ä. angeliefert werden\, sondern sollte in Säcken\, Transporttüten oder Beuteln zum einfachen Ausschütten verpackt sein. \n\nkostenlose Abgabe von maximal 1 Kubikmeter Grünabfällen aus Potsdamer Privathaushalten\nausgeschlossen sind: Baumstämme\, Fallobst\, Blumentöpfe\, Steine\, Erde oder Bauschutt usw.\nangenommen wird: Laub\, Rasenschnitt\, Astwerk (bis max. 12 Zentimeter Durchmesser) sowie Blumen und Pflanzen\nAusweisdokument für eventuelle Rückfragen mitbringen\nTransportbehältnisse müssen wieder mitgenommen werden\n\nGrünabfall kann nur zu den unten stehenden Zeiten an den angegebenen Standorten abgegeben werden. Vorheriges Anliefern oder Bereitlegen ist verboten. \nStandorte und Termine der Grünabfallsammlung im Herbst 2026 in Bornim \n17. Oktober 12-14 Uhr Standorte: Bornim Florastr:/Hügelweg und Amundsenstr./ Am Raubfang
URL:https://xn--brgerverein-bornim-m6b.de/event/oeffentliche-gruenschnittannahme/
LOCATION:Florastraße
END:VEVENT
END:VCALENDAR