BEGIN:VCALENDAR
VERSION:2.0
PRODID:-//Bürgerverein Bornim `90 e.V. - ECPv6.15.20//NONSGML v1.0//EN
CALSCALE:GREGORIAN
METHOD:PUBLISH
X-ORIGINAL-URL:https://xn--brgerverein-bornim-m6b.de
X-WR-CALDESC:Veranstaltungen für Bürgerverein Bornim `90 e.V.
REFRESH-INTERVAL;VALUE=DURATION:PT1H
X-Robots-Tag:noindex
X-PUBLISHED-TTL:PT1H
BEGIN:VTIMEZONE
TZID:Europe/Berlin
BEGIN:DAYLIGHT
TZOFFSETFROM:+0100
TZOFFSETTO:+0200
TZNAME:CEST
DTSTART:20250330T010000
END:DAYLIGHT
BEGIN:STANDARD
TZOFFSETFROM:+0200
TZOFFSETTO:+0100
TZNAME:CET
DTSTART:20251026T010000
END:STANDARD
BEGIN:DAYLIGHT
TZOFFSETFROM:+0100
TZOFFSETTO:+0200
TZNAME:CEST
DTSTART:20260329T010000
END:DAYLIGHT
BEGIN:STANDARD
TZOFFSETFROM:+0200
TZOFFSETTO:+0100
TZNAME:CET
DTSTART:20261025T010000
END:STANDARD
BEGIN:DAYLIGHT
TZOFFSETFROM:+0100
TZOFFSETTO:+0200
TZNAME:CEST
DTSTART:20270328T010000
END:DAYLIGHT
BEGIN:STANDARD
TZOFFSETFROM:+0200
TZOFFSETTO:+0100
TZNAME:CET
DTSTART:20271031T010000
END:STANDARD
END:VTIMEZONE
BEGIN:VEVENT
DTSTART;TZID=Europe/Berlin:20260204T173000
DTEND;TZID=Europe/Berlin:20260204T193000
DTSTAMP:20260425T173709
CREATED:20260119T170014Z
LAST-MODIFIED:20260119T170251Z
UID:3764-1770226200-1770233400@xn--brgerverein-bornim-m6b.de
SUMMARY:Reiterverein Bornim 1921 e.V. - Vortrag
DESCRIPTION:Wir stellen den ehemaligen Reiterverein Bornim vor\, gegründet 1921.
URL:https://xn--brgerverein-bornim-m6b.de/event/reiterverein-bornim-1921/
END:VEVENT
BEGIN:VEVENT
DTSTART;TZID=Europe/Berlin:20260220T180000
DTEND;TZID=Europe/Berlin:20260220T220000
DTSTAMP:20260425T173709
CREATED:20260121T134943Z
LAST-MODIFIED:20260201T092435Z
UID:3769-1771610400-1771624800@xn--brgerverein-bornim-m6b.de
SUMMARY:Kegelabend
DESCRIPTION:Für Vereinsmitglieder ab 18 Uhr in der Gaststätte „Lokalität“ Berliner Straße in Potsdam mit anschließendem Abendessen.
URL:https://xn--brgerverein-bornim-m6b.de/event/kegelabend/
CATEGORIES:Treffen
END:VEVENT
END:VCALENDAR